BEGIN:VCALENDAR
VERSION:2.0
PRODID:-//Coffs Harbour Cycle Club - ECPv5.3.2.1//NONSGML v1.0//EN
CALSCALE:GREGORIAN
METHOD:PUBLISH
X-WR-CALNAME:Coffs Harbour Cycle Club
X-ORIGINAL-URL:https://coffsharbourcycleclub.org.au
X-WR-CALDESC:Events for Coffs Harbour Cycle Club
BEGIN:VTIMEZONE
TZID:Australia/Sydney
BEGIN:STANDARD
TZOFFSETFROM:+1100
TZOFFSETTO:+1000
TZNAME:AEST
DTSTART:20200404T160000
END:STANDARD
BEGIN:DAYLIGHT
TZOFFSETFROM:+1000
TZOFFSETTO:+1100
TZNAME:AEDT
DTSTART:20201003T160000
END:DAYLIGHT
BEGIN:STANDARD
TZOFFSETFROM:+1100
TZOFFSETTO:+1000
TZNAME:AEST
DTSTART:20210403T160000
END:STANDARD
BEGIN:DAYLIGHT
TZOFFSETFROM:+1000
TZOFFSETTO:+1100
TZNAME:AEDT
DTSTART:20211002T160000
END:DAYLIGHT
END:VTIMEZONE
BEGIN:VEVENT
DTSTART;TZID=Australia/Sydney:20201229T163000
DTEND;TZID=Australia/Sydney:20201229T173000
DTSTAMP:20210301T095725
CREATED:20200229T194111Z
LAST-MODIFIED:20200229T194111Z
UID:315-1609259400-1609263000@coffsharbourcycleclub.org.au
SUMMARY:Junior Track Training
DESCRIPTION:Track skills for children of all abilities\nSign on opens 30 mins before start time\nMinimum license required: CA Ride
URL:https://coffsharbourcycleclub.org.au/event/junior-track-training/2020-12-29/
LOCATION:Velodrome\, LOT 53 Minorie Dr\, Toormina\, NSW\, 2452\, Australia
CATEGORIES:Track Event
END:VEVENT
BEGIN:VEVENT
DTSTART;TZID=Australia/Sydney:20201231T180000
DTEND;TZID=Australia/Sydney:20201231T193000
DTSTAMP:20210301T095725
CREATED:20200305T043925Z
LAST-MODIFIED:20200311T042926Z
UID:421-1609437600-1609443000@coffsharbourcycleclub.org.au
SUMMARY:Ladies Track Training
DESCRIPTION:Various track cycling skills as well as fitness development\nOpen to women of all ages and abilities\nSign on opens 30 minutes before start time\nMinimum license required: CA Ride
URL:https://coffsharbourcycleclub.org.au/event/ladies-track-training/2020-12-31/
LOCATION:Velodrome\, LOT 53 Minorie Dr\, Toormina\, NSW\, 2452\, Australia
CATEGORIES:Local Event,Track Event
END:VEVENT
BEGIN:VEVENT
DTSTART;TZID=Australia/Sydney:20210104T180000
DTEND;TZID=Australia/Sydney:20210104T193000
DTSTAMP:20210301T095725
CREATED:20201207T092728Z
LAST-MODIFIED:20201207T094932Z
UID:763-1609783200-1609788600@coffsharbourcycleclub.org.au
SUMMARY:Summer Crit Series
DESCRIPTION:A great night of club crit racing. The program is as follows: \n\nJuniors 6 pm – 15 minutes plus 3\nD Grade 6 pm – 15 minutes plus 3\nC Grade at 6 pm – 20 minutes plus 3\nB Grade from 6:30 pm – 30 minutes plus 3\nA Grade from 6.30 pm – 40 minutes plus 3
URL:https://coffsharbourcycleclub.org.au/event/summer-crit-series/2021-01-04/
LOCATION:Criterium Circuit\, LOT 53 Minorie Dr\, Toormina\, NSW\, 2452\, Australia
CATEGORIES:Road Events
END:VEVENT
BEGIN:VEVENT
DTSTART;TZID=Australia/Sydney:20210105T163000
DTEND;TZID=Australia/Sydney:20210105T173000
DTSTAMP:20210301T095725
CREATED:20200229T194111Z
LAST-MODIFIED:20200229T194111Z
UID:316-1609864200-1609867800@coffsharbourcycleclub.org.au
SUMMARY:Junior Track Training
DESCRIPTION:Track skills for children of all abilities\nSign on opens 30 mins before start time\nMinimum license required: CA Ride
URL:https://coffsharbourcycleclub.org.au/event/junior-track-training/2021-01-05/
LOCATION:Velodrome\, LOT 53 Minorie Dr\, Toormina\, NSW\, 2452\, Australia
CATEGORIES:Track Event
END:VEVENT
BEGIN:VEVENT
DTSTART;TZID=Australia/Sydney:20210107T180000
DTEND;TZID=Australia/Sydney:20210107T193000
DTSTAMP:20210301T095725
CREATED:20200305T043925Z
LAST-MODIFIED:20200311T042926Z
UID:422-1610042400-1610047800@coffsharbourcycleclub.org.au
SUMMARY:Ladies Track Training
DESCRIPTION:Various track cycling skills as well as fitness development\nOpen to women of all ages and abilities\nSign on opens 30 minutes before start time\nMinimum license required: CA Ride
URL:https://coffsharbourcycleclub.org.au/event/ladies-track-training/2021-01-07/
LOCATION:Velodrome\, LOT 53 Minorie Dr\, Toormina\, NSW\, 2452\, Australia
CATEGORIES:Local Event,Track Event
END:VEVENT
BEGIN:VEVENT
DTSTART;TZID=Australia/Sydney:20210110T070000
DTEND;TZID=Australia/Sydney:20210110T090000
DTSTAMP:20210301T095725
CREATED:20210106T013919Z
LAST-MODIFIED:20210106T014116Z
UID:787-1610262000-1610269200@coffsharbourcycleclub.org.au
SUMMARY:Club Social Ride
DESCRIPTION:Starting from Split Cafe in Sawtell\, heading down to Mylestom and back via Pine Creek Way – around 46km. The pace will be modest – meaning around 25kmh average speed (so probably limits the ride to road bikes). \nStrava link here: https://www.strava.com/routes/2781005505379057750 \nThe ride will leave Sawtell at 7am (so please arrive 6.50am). The group will stop or slow as needed to rebunch – so don’t worry too much if you start to tire. We expect to be back at Sawtell at 9am for coffee and a natter. \nPlease ensure your bike is in good running order and you have spare tubes etc. We want this to be fun\, and a means of catching up or getting to know new members. By all means bring your ideas for events and activities for 2021 – we want to hear them. \nNon-members are also welcome so bring your mates!
URL:https://coffsharbourcycleclub.org.au/event/club-social-ride/
LOCATION:NSW
CATEGORIES:Local Event,Road Events
END:VEVENT
BEGIN:VEVENT
DTSTART;TZID=Australia/Sydney:20210112T163000
DTEND;TZID=Australia/Sydney:20210112T173000
DTSTAMP:20210301T095725
CREATED:20200229T194111Z
LAST-MODIFIED:20200229T194111Z
UID:317-1610469000-1610472600@coffsharbourcycleclub.org.au
SUMMARY:Junior Track Training
DESCRIPTION:Track skills for children of all abilities\nSign on opens 30 mins before start time\nMinimum license required: CA Ride
URL:https://coffsharbourcycleclub.org.au/event/junior-track-training/2021-01-12/
LOCATION:Velodrome\, LOT 53 Minorie Dr\, Toormina\, NSW\, 2452\, Australia
CATEGORIES:Track Event
END:VEVENT
BEGIN:VEVENT
DTSTART;TZID=Australia/Sydney:20210114T180000
DTEND;TZID=Australia/Sydney:20210114T193000
DTSTAMP:20210301T095725
CREATED:20200305T043925Z
LAST-MODIFIED:20200311T042926Z
UID:423-1610647200-1610652600@coffsharbourcycleclub.org.au
SUMMARY:Ladies Track Training
DESCRIPTION:Various track cycling skills as well as fitness development\nOpen to women of all ages and abilities\nSign on opens 30 minutes before start time\nMinimum license required: CA Ride
URL:https://coffsharbourcycleclub.org.au/event/ladies-track-training/2021-01-14/
LOCATION:Velodrome\, LOT 53 Minorie Dr\, Toormina\, NSW\, 2452\, Australia
CATEGORIES:Local Event,Track Event
END:VEVENT
BEGIN:VEVENT
DTSTART;TZID=Australia/Sydney:20210118T180000
DTEND;TZID=Australia/Sydney:20210118T193000
DTSTAMP:20210301T095725
CREATED:20201207T092728Z
LAST-MODIFIED:20201207T094932Z
UID:767-1610992800-1610998200@coffsharbourcycleclub.org.au
SUMMARY:Summer Crit Series
DESCRIPTION:A great night of club crit racing. The program is as follows: \n\nJuniors 6 pm – 15 minutes plus 3\nD Grade 6 pm – 15 minutes plus 3\nC Grade at 6 pm – 20 minutes plus 3\nB Grade from 6:30 pm – 30 minutes plus 3\nA Grade from 6.30 pm – 40 minutes plus 3
URL:https://coffsharbourcycleclub.org.au/event/summer-crit-series/2021-01-18/
LOCATION:Criterium Circuit\, LOT 53 Minorie Dr\, Toormina\, NSW\, 2452\, Australia
CATEGORIES:Road Events
END:VEVENT
BEGIN:VEVENT
DTSTART;TZID=Australia/Sydney:20210119T163000
DTEND;TZID=Australia/Sydney:20210119T173000
DTSTAMP:20210301T095725
CREATED:20200229T194111Z
LAST-MODIFIED:20200229T194111Z
UID:318-1611073800-1611077400@coffsharbourcycleclub.org.au
SUMMARY:Junior Track Training
DESCRIPTION:Track skills for children of all abilities\nSign on opens 30 mins before start time\nMinimum license required: CA Ride
URL:https://coffsharbourcycleclub.org.au/event/junior-track-training/2021-01-19/
LOCATION:Velodrome\, LOT 53 Minorie Dr\, Toormina\, NSW\, 2452\, Australia
CATEGORIES:Track Event
END:VEVENT
BEGIN:VEVENT
DTSTART;TZID=Australia/Sydney:20210121T180000
DTEND;TZID=Australia/Sydney:20210121T193000
DTSTAMP:20210301T095725
CREATED:20200305T043925Z
LAST-MODIFIED:20200311T042926Z
UID:424-1611252000-1611257400@coffsharbourcycleclub.org.au
SUMMARY:Ladies Track Training
DESCRIPTION:Various track cycling skills as well as fitness development\nOpen to women of all ages and abilities\nSign on opens 30 minutes before start time\nMinimum license required: CA Ride
URL:https://coffsharbourcycleclub.org.au/event/ladies-track-training/2021-01-21/
LOCATION:Velodrome\, LOT 53 Minorie Dr\, Toormina\, NSW\, 2452\, Australia
CATEGORIES:Local Event,Track Event
END:VEVENT
BEGIN:VEVENT
DTSTART;TZID=Australia/Sydney:20210126T163000
DTEND;TZID=Australia/Sydney:20210126T173000
DTSTAMP:20210301T095725
CREATED:20200229T194111Z
LAST-MODIFIED:20200229T194111Z
UID:319-1611678600-1611682200@coffsharbourcycleclub.org.au
SUMMARY:Junior Track Training
DESCRIPTION:Track skills for children of all abilities\nSign on opens 30 mins before start time\nMinimum license required: CA Ride
URL:https://coffsharbourcycleclub.org.au/event/junior-track-training/2021-01-26/
LOCATION:Velodrome\, LOT 53 Minorie Dr\, Toormina\, NSW\, 2452\, Australia
CATEGORIES:Track Event
END:VEVENT
BEGIN:VEVENT
DTSTART;TZID=Australia/Sydney:20210127T163000
DTEND;TZID=Australia/Sydney:20210127T173000
DTSTAMP:20210301T095725
CREATED:20210121T034847Z
LAST-MODIFIED:20210121T034847Z
UID:835-1611765000-1611768600@coffsharbourcycleclub.org.au
SUMMARY:Handcycle Training
DESCRIPTION:Open to Auscycle Members\nHandcycle only\, any design allowed including e-assist\nStart time 4:30 for an hour of training\nEach week subject to weather called off due to rain or high winds\nPlease contact Craig Cameron for more details or email the club
URL:https://coffsharbourcycleclub.org.au/event/handcycle-training/2021-01-27/
LOCATION:Velodrome\, LOT 53 Minorie Dr\, Toormina\, NSW\, 2452\, Australia
CATEGORIES:Track Event
END:VEVENT
BEGIN:VEVENT
DTSTART;TZID=Australia/Sydney:20210127T174500
DTEND;TZID=Australia/Sydney:20210127T193000
DTSTAMP:20210301T095725
CREATED:20210120T221729Z
LAST-MODIFIED:20210210T001551Z
UID:794-1611769500-1611775800@coffsharbourcycleclub.org.au
SUMMARY:Track - 100 lap motorpace
DESCRIPTION:Warm up roll 5:45\nStart time 6pm\nOpen to AusCycle member riders \, motor pace 100 laps.\nWind up speed from 30km/hr start to 60km/hr finish with an optional sprint lap at every 10 laps\nTrack bikes only\nEach week subject to weather eg. called off if rain or high winds due to safety\nContact Craig Cameron for more details or email the club\nSign on through Buncheur
URL:https://coffsharbourcycleclub.org.au/event/track-100-lap-motorpace-2/2021-01-27/
LOCATION:Velodrome\, LOT 53 Minorie Dr\, Toormina\, NSW\, 2452\, Australia
CATEGORIES:Track Event
END:VEVENT
BEGIN:VEVENT
DTSTART;TZID=Australia/Sydney:20210128T180000
DTEND;TZID=Australia/Sydney:20210128T193000
DTSTAMP:20210301T095725
CREATED:20200305T043925Z
LAST-MODIFIED:20200311T042927Z
UID:425-1611856800-1611862200@coffsharbourcycleclub.org.au
SUMMARY:Ladies Track Training
DESCRIPTION:Various track cycling skills as well as fitness development\nOpen to women of all ages and abilities\nSign on opens 30 minutes before start time\nMinimum license required: CA Ride
URL:https://coffsharbourcycleclub.org.au/event/ladies-track-training/2021-01-28/
LOCATION:Velodrome\, LOT 53 Minorie Dr\, Toormina\, NSW\, 2452\, Australia
CATEGORIES:Local Event,Track Event
END:VEVENT
END:VCALENDAR